Workbook
Name I_категории: active_kind!$B$2:$B$99
Name II_категории: active_kind!$C$2:$C$99
Name III_категории: active_kind!$D$2:$D$99
Name n_3_интернациональный_с_о_: lists_for_excel!$CNJ$2:$CNJ$51
Name Абайская_г_а_: lists_for_excel!$BNR$2:$BNR$51
Name Абайский_район: lists_for_excel!$AM$2:$AM$51
Name Абайский_с_о_: lists_for_excel!$OF$2:$OF$51
Name Аблакетский_с_о_: lists_for_excel!$DXV$2:$DXV$51
Name Абралинский_с_о_: lists_for_excel!$D$2:$D$51
Name Абылайхановский_с_о_: lists_for_excel!$WX$2:$WX$51
Name Авангардский_с_о_: lists_for_excel!$CZH$2:$CZH$51
Name Аватский_с_о_: lists_for_excel!$AGO$2:$AGO$51
Name Агадырьская_п_а_: lists_for_excel!$BVR$2:$BVR$51
Name Агашорынский_с_о_: lists_for_excel!$CUW$2:$CUW$51
Name Агыбетский_с_о_: lists_for_excel!$DFU$2:$DFU$51
Name Адаевский_с_о_: lists_for_excel!$CCG$2:$CCG$51
Name Азгирский_с_о_: lists_for_excel!$APE$2:$APE$51
Name Азовский_с_о_: lists_for_excel!$DXZ$2:$DXZ$51
Name Айгызский_с_о_: lists_for_excel!$CM$2:$CM$51
Name Айдарлинский_с_о_: lists_for_excel!$AIA$2:$AIA$51
Name Айкенский_с_о_: lists_for_excel!$YT$2:$YT$51
Name Айнабулакский_с_о: lists_for_excel!$DTT$2:$DTT$51
Name Айнабулакский_с_о_: lists_for_excel!$F$2:$F$51
Name Айнакольский_с_о_: lists_for_excel!$OA$2:$OA$51
Name Айсаринский_с_о_: lists_for_excel!$CEI$2:$CEI$51
Name Айтейский_с_о_: lists_for_excel!$AJX$2:$AJX$51
Name Айтеке_би_п_а_: lists_for_excel!$CMD$2:$CMD$51
Name Айтекебийский_район: lists_for_excel!$YO$2:$YO$51
Name Айшабибинский_с_о_: lists_for_excel!$BEG$2:$BEG$51
Name Айшуакский_с_о_: lists_for_excel!$ADX$2:$ADX$51
Name Айыртасский_с_о_: lists_for_excel!$BOO$2:$BOO$51
Name Айыртауский_район: lists_for_excel!$CYC$2:$CYC$51
Name Айыртауский_с_о_: lists_for_excel!$DYJ$2:$DYJ$51
Name Акайский_с_о_: lists_for_excel!$YB$2:$YB$51
Name Акаралский_с_о_: lists_for_excel!$BHA$2:$BHA$51
Name Акбакайская_с_а_: lists_for_excel!$BHE$2:$BHE$51
Name Акбастауский_с_о_: lists_for_excel!$BEI$2:$BEI$51
Name Акбелский_с_о_: lists_for_excel!$BQZ$2:$BQZ$51
Name Акбийкский_с_о_: lists_for_excel!$DOI$2:$DOI$51
Name Акбулакский_с_о_: lists_for_excel!$H$2:$H$51
Name Акбулымский_с_о_: lists_for_excel!$BEJ$2:$BEJ$51
Name Акдалинский_с_о_: lists_for_excel!$AFX$2:$AFX$51
Name Акерменский_с_о_: lists_for_excel!$BGL$2:$BGL$51
Name Акжаикский_район: lists_for_excel!$ARM$2:$ARM$51
Name Акжаикский_с_о_: lists_for_excel!$BCH$2:$BCH$51
Name Акжаиыкский_с_о_: lists_for_excel!$AQZ$2:$AQZ$51
Name Акжалская_п_а_: lists_for_excel!$BVU$2:$BVU$51
Name Акжальский_с_о_: lists_for_excel!$HC$2:$HC$51
Name Акжанский_с_о_: lists_for_excel!$DEC$2:$DEC$51
Name Акжаркынский_с_о_: lists_for_excel!$CZE$2:$CZE$51
Name Акжарминский_с_о_: lists_for_excel!$CIV$2:$CIV$51
Name Акжарский_район: lists_for_excel!$CYV$2:$CYV$51
Name Акжарский_с_о_: lists_for_excel!$JN$2:$JN$51
Name Акжигитская_с_а_: lists_for_excel!$CPJ$2:$CPJ$51
Name Акжолский_с_о_: lists_for_excel!$ARP$2:$ARP$51
Name Акжонский_с_о_: lists_for_excel!$CME$2:$CME$51
Name Акирекский_с_о_: lists_for_excel!$CJK$2:$CJK$51
Name Аккайнарский_с_о_: lists_for_excel!$AIB$2:$AIB$51
Name Аккайынский_район: lists_for_excel!$DCV$2:$DCV$51
Name Аккаргинский_с_о_: lists_for_excel!$CBV$2:$CBV$51

Sheet Сведения об операторе объекта
A1: Номер | B1: Наименование юридического лица на русском языке | C1: Наименование юридического лица на казахском языке | D1: Организационно - правовая форма | E1: БИН/ИИН | F1: ОКЭД | G1: Город/область | H1: Район | I1: Село | J1: Улица, дом | K1: ФИО руководителя | L1: Контактный телефон | M1: Почта
A2: 1 | D2: Товарищество с ограниченной ответственностью | E2: 210340025425 | F2: 23510 Производство цемента | G2: область Абай | H2: Жарминский район | I2: Карасуский с.о. | K2: ЧЭНЬ ЮНЛЯН | L2: 77052429132 | M2: dasha-mit.ecolog@mail.ru

Sheet Общие сведения об объекте
A1: Номер оператора объекта | B1: Оператор-объекта | C1: Номер объекта | D1: Наименование области | E1: Наименование объекта на русском языке | F1: Наименование объекта на казахском языке | G1: Адрес объекта | H1: Категория объекта | I1: Тип деятельности | J1: Вид деятельности | K1: Класс опасности | L1: Радиус СЗЗ
A2: ='Сведения об операторе объекта'!A2 -> 1 | B2: ='Сведения об операторе объекта'!B2 -> 0 | C2: 1 | D2: область Абай | E2: ТОО «SHARCEM (ШАРЦЕМ)» | F2: ЖШС «SHARCEM (ШАРЦЕМ)» | G2: Жарминский район, Карасуский сельский округ, село Конырбиик, улица Жанажол, здание 20 | H2: I категории | I2: Действующая | J2: производство цементного клинкера во вращающихся печах с производственной мощностью, превышающей 500 тонн в сутки, или в других печах с производительностью, превышающей 50 тонн в сутки | K2: Объекты I класса опасности | L2: 1000

Sheet Привязка объекта к ГИС
A1: Номер | B1: Система координат | C1: Широта, в десятичных градусах | D1: Долгота, в десятичных градусах
A2: 1 | B2: Географическая | C2: 49.65736 | D2: 81.17691

Sheet Климатические характеристики
A1: Номер объекта | B1: Коэффициент, зависящий от стратификации атмосферы, А | C1: Средняя температура наружного воздуха наиболее холодного месяца, град.С | D1: Средняя максимальная температура наружного воздуха наиболее жаркого месяца года, град.С | E1: Коэффициент, зависящий от рельефа местности, η | F1: Скорость ветра (по средним многолетним данным), повторяемость превышения которой составляет 5 %, м/с | G1: Среднегодовая скорость ветра, м/с | H1: Среднегодовая роза ветров Север, % | I1: Среднегодовая роза ветров Север восток, % | J1: Среднегодовая роза ветров Восток, % | K1: Среднегодовая роза ветров Юг Восток, % | L1: Среднегодовая роза ветров Юг, % | M1: Среднегодовая роза ветров Юг Запад, % | N1: Среднегодовая роза ветров Запад, % | O1: Среднегодовая роза ветров Север Запад, % | P1: Среднегодовая роза ветров Штиль, %
A2: 1 | B2: 200 | C2: -20.6 | D2: 28 | E2: 1 | F2: 7 | G2: 2.7 | H2: 11 | I2: 4 | J2: 7 | K2: 34 | L2: 11 | M2: 9 | N2: 9 | O2: 15 | P2: 26

Sheet Фон
A1: Номер объекта | B1: Код ЗВ | C1: Наименование загрязняющего вещества | D1: Штиль 0-2 м/сек | E1: Север | F1: Восток | G1: Юг | H1: Запад
C2: =IFERROR(VLOOKUP(B2,zv!$B$2:$C$2198,2,FALSE),"")
C3: =IFERROR(VLOOKUP(B3,zv!$B$2:$C$2198,2,FALSE),"")
C4: =IFERROR(VLOOKUP(B4,zv!$B$2:$C$2198,2,FALSE),"")
C5: =IFERROR(VLOOKUP(B5,zv!$B$2:$C$2198,2,FALSE),"")
C6: =IFERROR(VLOOKUP(B6,zv!$B$2:$C$2198,2,FALSE),"")
C7: =IFERROR(VLOOKUP(B7,zv!$B$2:$C$2198,2,FALSE),"")
C8: =IFERROR(VLOOKUP(B8,zv!$B$2:$C$2198,2,FALSE),"")
C9: =IFERROR(VLOOKUP(B9,zv!$B$2:$C$2198,2,FALSE),"")
C10: =IFERROR(VLOOKUP(B10,zv!$B$2:$C$2198,2,FALSE),"")
C11: =IFERROR(VLOOKUP(B11,zv!$B$2:$C$2198,2,FALSE),"")
C12: =IFERROR(VLOOKUP(B12,zv!$B$2:$C$2198,2,FALSE),"")
C13: =IFERROR(VLOOKUP(B13,zv!$B$2:$C$2198,2,FALSE),"")
... C86: =IFERROR(VLOOKUP(B86,zv!$B$2:$C$2198,2,FALSE),"")

Sheet Экологическое разрешение
A1: Номер объекта | B1: Номер ЭР | C1: Кем выдано | D1: Дата выдачи | E1: Срок действия
A2: 1 | B2: KZ21VCZ03149894 | C2: РГУ "Департамент экологии по области Абай Комитета экологического регулирования и контроля Министерства экологии, геологии и природных ресурсов РК | D2: 44927 | E2: 46752

Sheet ПР
A1: Год
A2: Текущая инвентаризация
A3: 2027
A4: 2028
A5: 2029
A6: 2030
A7: 2031
A8: 2032
A9: 2033
A10: 2034
A11: 2035
A12: 2036

Sheet Производства
A1: Наименование производства | B1: Номер производства | C1: Радиус | D1: Срок действия с | E1: Срок действия по | F1: Инвентаризация/Перспектива
A2: Производство клинкера | B2: 1 | D2: 44927 | E2: 46752 | F2: Текущая инвентаризация
A3: Валковая углольная мельница | B3: 2 | D3: 44927 | E3: 46752 | F3: Текущая инвентаризация
A4: Узел пересыпки клинкера | B4: 3 | D4: 44927 | E4: 46752 | F4: Текущая инвентаризация
A5: Узел пересыпки сырьевых материалов | B5: 4 | D5: 44927 | E5: 46752 | F5: Текущая инвентаризация
A6: Молотковая дробилка гипса | B6: 5 | D6: 44927 | E6: 46752 | F6: Текущая инвентаризация
A7: Узел перегрузки клинкера в ж/д транспорт | B7: 6 | D7: 44927 | E7: 46752 | F7: Текущая инвентаризация
A8: Узел перегрузки клинкера в автотранспорт | B8: 7 | D8: 44927 | E8: 46752 | F8: Текущая инвентаризация
A9: Ремонтно-механический цех | B9: 8 | D9: 44927 | E9: 46752 | F9: Текущая инвентаризация
A10: Лаборатория | B10: 9 | D10: 44927 | E10: 46752 | F10: Текущая инвентаризация
A11: Узел перегрузки цемента | B11: 10 | D11: 44927 | E11: 46752 | F11: Текущая инвентаризация
A12: Сушильный барабан | B12: 11 | D12: 44927 | E12: 46752 | F12: Текущая инвентаризация
A13: Узел пересыпки цемента | B13: 12 | D13: 44927 | E13: 46752 | F13: Текущая инвентаризация
... A33: Накопительная площадка клинкера | B33: 32 | D33: 44927 | E33: 46752 | F33: Текущая инвентаризация

Sheet Цеха
A1: Наименование цеха | B1: Номер цеха | C1: Номер производства* | D1: Срок действия с | E1: Срок действия по | F1: Инвентаризация/Перспектива

Sheet Участки
A1: Наименование участка | B1: Номер участка | C1: Номер производства* | D1: Номер цеха* | E1: Срок действия с | F1: Срок действия по | G1: Инвентаризация/Перспектива
C2: 1

Sheet Режимы ИЗА
A1: Номер объекта | B1: Номер режима | C1: Наименование режима | D1: Инвентаризация/Перспектива
A2: 1 | B2: 1

Sheet Режимы ИВ
A1: Номер объекта | B1: Номер режима | C1: Наименование режима | D1: Инвентаризация/Перспектива
A2: 1 | B2: 1 | C2: 1

Sheet Источники загрязнения
A1: Наименование источника загрязнения | B1: Номер источника загрязнения | C1: Номер производства* | D1: Номер цеха* | E1: Номер участка* | F1: Номер режима* | G1: Вид источника | H1: Признак неорганизованного | I1: Количество источников | J1: Высота, м | K1: Диаметр (ширина для квадратного устья), размер сечения устья, м | L1: Длина (для квадратного устья) | M1: Скорость, м/с | N1: Объемный расход, м3/с | O1: Температура, С0 | P1: Концентрация паров воды в ГВС, г/нм3 | Q1: Х координата (в десятичных градусах) | R1: Y координата (в десятичных градусах) | S1: X2 координата (длина для площадных, начальная координата для линейных ИЗА) | T1: Y2 координата (ширина для площадных, конечная координата для линейных ИЗА) | U1: Угол поворота, град (для площадных и линейных ИЗА) | V1: Срок действия с | W1: Срок действия по | X1: Инвентаризация/Перспектива
A2: Дробилка молотковая для известняка | B2: 0001 | C2: 1 | G2: Точечный источник | J2: 13 | K2: 1 | M2: 23.05 | N2: 18.1 | O2: 28 | V2: 44927 | W2: 46752 | X2: Текущая инвентаризация
A3: Узел пересыпки известняка | B3: 0002 | C3: 1 | G3: Точечный источник | J3: 13 | K3: 0.35 | L3: 0.5 | M3: 39.43 | N3: 6.9 | O3: 28 | V3: 44927 | W3: 46752 | X3: Текущая инвентаризация
A4: Узел пересыпки известняка | B4: 0003 | C4: 1 | G4: Точечный источник | J4: 26 | K4: 0.35 | L4: 0.5 | M4: 39.43 | N4: 6.9 | O4: 28 | V4: 44927 | W4: 46752 | X4: Текущая инвентаризация
A5: Узел пересыпки известняка | B5: 0004 | C5: 1 | G5: Точечный источник | J5: 26 | K5: 0.35 | L5: 0.5 | M5: 39.43 | N5: 6.9 | O5: 28 | V5: 44927 | W5: 46752 | X5: Текущая инвентаризация
A6: Узел пересыпки сырьевых материалов | B6: 0005 | C6: 1 | G6: Точечный источник | J6: 26 | K6: 0.35 | L6: 0.5 | M6: 32 | N6: 5.6 | O6: 28 | V6: 44927 | W6: 46752 | X6: Текущая инвентаризация
A7: Узел пересыпки сырья | B7: 0008 | C7: 1 | G7: Точечный источник | J7: 15 | K7: 0.35 | L7: 0.5 | M7: 32 | N7: 5.6 | O7: 28 | V7: 44927 | W7: 46752 | X7: Текущая инвентаризация
A8: Узел пересыпки сырьевых материалов | B8: 0009 | C8: 1 | G8: Точечный источник | J8: 13 | K8: 0.35 | L8: 0.5 | M8: 32 | N8: 5.6 | O8: 28 | V8: 44927 | W8: 46752 | X8: Текущая инвентаризация
A9: Вращающаяся печь. Холодильник | B9: 0011 | C9: 1 | G9: Точечный источник | J9: 94.2 | K9: 2.6 | M9: 14.69 | N9: 78 | O9: 160 | V9: 44927 | W9: 46752 | X9: Текущая инвентаризация
A10: Узел перегрузки клинкера в автотранспорт | B10: 0012 | C10: 1 | G10: Точечный источник | J10: 13.3 | K10: 0.35 | L10: 0.5 | M10: 32 | N10: 5.6 | O10: 28 | V10: 44927 | W10: 46752 | X10: Текущая инвентаризация
A11: Сырьевая мельница | B11: 0013 | C11: 1 | G11: Точечный источник | J11: 23.5 | K11: 1.8 | M11: 2.2 | N11: 5.6 | O11: 40 | V11: 44927 | W11: 46752 | X11: Текущая инвентаризация
A12: Аэрация сырьевой смеси в силосе гомогенизаторе | B12: 0014 | C12: 1 | G12: Точечный источник | J12: 50 | K12: 0.35 | L12: 0.5 | M12: 47.43 | N12: 8.3 | O12: 28 | V12: 44927 | W12: 46752 | X12: Текущая инвентаризация
A13: Узел пересыпки сырьевой смеси | B13: 0015 | C13: 1 | G13: Точечный источник | J13: 25 | K13: 0.35 | L13: 0.5 | M13: 47.43 | N13: 8.3 | O13: 28 | V13: 44927 | W13: 46752 | X13: Текущая инвентаризация
A14: Молотковая дробилка угля | B14: 0016 | C14: 1 | G14: Точечный источник | J14: 12 | K14: 0.6 | M14: 54.11 | N14: 15.3 | O14: 28 | V14: 44927 | W14: 46752 | X14: Текущая инвентаризация
A15: Узел пересыпки клинкера | B15: 0017 | C15: 1 | G15: Точечный источник | J15: 4.3 | K15: 0.35 | L15: 0.5 | M15: 63.43 | N15: 11.1 | O15: 28 | V15: 44927 | W15: 46752 | X15: Текущая инвентаризация
A16: Узел пересыпки угля | B16: 0018 | C16: 1 | G16: Точечный источник | J16: 13 | K16: 0.35 | L16: 0.5 | M16: 63.43 | N16: 11.1 | O16: 28 | V16: 44927 | W16: 46752 | X16: Текущая инвентаризация
A17: Узел пересыпки угля | B17: 0019 | C17: 1 | G17: Точечный источник | J17: 13 | K17: 0.35 | L17: 0.5 | M17: 63.43 | N17: 11.1 | O17: 28 | V17: 44927 | W17: 46752 | X17: Текущая инвентаризация
A18: Валковая угольная мельница | B18: 0020 | C18: 2 | G18: Точечный источник | J18: 29 | K18: 1.5 | M18: 12.56 | N18: 22.2 | O18: 40 | V18: 44927 | W18: 46752 | X18: Текущая инвентаризация
A19: Узел пересыпки клинкера | B19: 0021 | C19: 3 | G19: Точечный источник | J19: 13.3 | K19: 0.35 | L19: 0.5 | M19: 63.43 | N19: 11.1 | O19: 28 | V19: 44927 | W19: 46752 | X19: Текущая инвентаризация
A20: Узел пересыпки сырьевых материалов | B20: 0022 | C20: 4 | G20: Точечный источник | J20: 13.8 | K20: 0.35 | L20: 0.5 | M20: 63.43 | N20: 11.1 | O20: 28 | V20: 44927 | W20: 46752 | X20: Текущая инвентаризация
A21: Молотковая дробилка гипса | B21: 0024 | C21: 5 | G21: Точечный источник | J21: 12 | K21: 1 | M21: 19.48 | N21: 15.3 | O21: 28 | V21: 44927 | W21: 46752 | X21: Текущая инвентаризация
A22: Узел перегрузки клинкера в ж/д транспорт | B22: 0025 | C22: 6 | G22: Точечный источник | J22: 16 | K22: 0.35 | L22: 0.5 | M22: 63.43 | N22: 11.1 | O22: 28 | V22: 44927 | W22: 46752 | X22: Текущая инвентаризация
A23: Узел перегрузки клинкера в автотранспорт | B23: 0026 | C23: 7 | G23: Точечный источник | J23: 16 | K23: 0.35 | L23: 0.5 | M23: 63.43 | N23: 11.1 | O23: 28 | V23: 44927 | W23: 46752 | X23: Текущая инвентаризация
A24: Роллер-пресс № 1 | B24: 0027 | C24: 1 | G24: Точечный источник | J24: 22.5 | K24: 0.35 | L24: 0.5 | M24: 87.43 | N24: 15.3 | O24: 28 | V24: 44927 | W24: 46752 | X24: Текущая инвентаризация
A25: Цементная мельница № 1 | B25: 0028 | C25: 1 | G25: Точечный источник | J25: 25 | K25: 0.7 | M25: 64.96 | N25: 25 | O25: 50 | V25: 44927 | W25: 46752 | X25: Текущая инвентаризация
A26: Роллер-пресс № 2 | B26: 0029 | C26: 1 | G26: Точечный источник | J26: 22.6 | K26: 0.35 | L26: 0.5 | M26: 87.43 | N26: 15.3 | O26: 28 | V26: 44927 | W26: 46752 | X26: Текущая инвентаризация
A27: Цементная мельница № 2 | B27: 0030 | C27: 1 | G27: Точечный источник | J27: 25 | K27: 0.7 | M27: 64.96 | N27: 25 | O27: 50 | V27: 44927 | W27: 46752 | X27: Текущая инвентаризация
A28: Цементные силоса № 1,2 | B28: 0031 | C28: 1 | G28: Точечный источник | J28: 40.3 | K28: 0.25 | L28: 0.4 | M28: 33 | N28: 3.3 | O28: 28 | V28: 44927 | W28: 46752 | X28: Текущая инвентаризация
A29: Цементные силоса № 3,4 | B29: 0032 | C29: 1 | G29: Точечный источник | J29: 40.3 | K29: 0.25 | L29: 0.4 | M29: 33 | N29: 3.3 | O29: 28 | V29: 44927 | W29: 46752 | X29: Текущая инвентаризация
A30: Цементные силоса № 5,6 | B30: 0033 | C30: 1 | G30: Точечный источник | J30: 40.3 | K30: 0.25 | L30: 0.4 | M30: 33 | N30: 3.3 | O30: 28 | V30: 44927 | W30: 46752 | X30: Текущая инвентаризация
A31: Цементные силоса № 7,8 | B31: 0034 | C31: 1 | G31: Точечный источник | J31: 40.3 | K31: 0.25 | L31: 0.4 | M31: 33 | N31: 3.3 | O31: 28 | V31: 44927 | W31: 46752 | X31: Текущая инвентаризация
A32: Перегрузка цемента в ж/д вагон и автотранспорт | B32: 0035 | C32: 1 | G32: Точечный источник | J32: 15.6 | K32: 0.35 | L32: 0.5 | M32: 32 | N32: 5.6 | O32: 28 | V32: 44927 | W32: 46752 | X32: Текущая инвентаризация
A33: Перегрузка цемента в ж/д вагон и автотранспорт | B33: 0036 | C33: 1 | G33: Точечный источник | J33: 15.6 | K33: 0.35 | L33: 0.5 | M33: 32 | N33: 5.6 | O33: 28 | V33: 44927 | W33: 46752 | X33: Текущая инвентаризация
A34: Перегрузка цемента в ж/д вагон и автотранспорт | B34: 0037 | C34: 1 | G34: Точечный источник | J34: 15.6 | K34: 0.35 | L34: 0.5 | M34: 32 | N34: 5.6 | O34: 28 | V34: 44927 | W34: 46752 | X34: Текущая инвентаризация
A35: Перегрузка цемента в ж/д вагон и автотранспорт | B35: 0038 | C35: 1 | G35: Точечный источник | J35: 15.6 | K35: 0.35 | L35: 0.5 | M35: 32 | N35: 5.6 | O35: 28 | V35: 44927 | W35: 46752 | X35: Текущая инвентаризация
A36: Перегрузка цемента в ж/д вагон и автотранспорт | B36: 0039 | C36: 1 | G36: Точечный источник | J36: 15.6 | K36: 0.35 | L36: 0.5 | M36: 32 | N36: 5.6 | O36: 28 | V36: 44927 | W36: 46752 | X36: Текущая инвентаризация
A37: Перегрузка цемента в ж/д вагон и автотранспорт | B37: 0040 | C37: 1 | G37: Точечный источник | J37: 15.6 | K37: 0.35 | L37: 0.5 | M37: 32 | N37: 5.6 | O37: 28 | V37: 44927 | W37: 46752 | X37: Текущая инвентаризация
A38: Перегрузка цемента в ж/д вагон и автотранспорт | B38: 0041 | C38: 1 | G38: Точечный источник | J38: 15.6 | K38: 0.35 | L38: 0.5 | M38: 32 | N38: 5.6 | O38: 28 | V38: 44927 | W38: 46752 | X38: Текущая инвентаризация
A39: Перегрузка цемента в ж/д вагон и автотранспорт | B39: 0042 | C39: 1 | G39: Точечный источник | J39: 15.6 | K39: 0.35 | L39: 0.5 | M39: 32 | N39: 5.6 | O39: 28 | V39: 44927 | W39: 46752 | X39: Текущая инвентаризация
... A42: Узел пересыпки цемента | B42: 0045 | C42: 1 | G42: Точечный источник | J42: 19.3 | K42: 0.35 | L42: 0.5 | M42: 63.43 | N42: 11.1 | O42: 28 | V42: 44927 | W42: 46752 | X42: Текущая инвентаризация
...

Sheet Источники выделения
A1: Наименование источника выделения | B1: Номер источника выделения | C1: Номер источника загрязнения* | D1: Наименование выпускаемой продукции | E1: Количество источников выделения | F1: Кол-во ИВ, работающих одновременно | G1: Время работы - в сутки | H1: Время работы - в год | I1: Номер режима | J1: Сезон | K1: Срок действия с | L1: Срок действия по | M1: Инвентаризация/Перспектива
A2: Вытяжная труба пылеуловителя | B2: 0001 | C2: 0001 | H2: 2800 | J2: Лето (Круглый год) | K2: 44927 | L2: 46752 | M2: Текущая инвентаризация
A3: Вытяжная труба пылеуловителя | B3: 0002 | C3: 0002 | H3: 2800 | J3: Лето (Круглый год) | K3: 44927 | L3: 46752 | M3: Текущая инвентаризация
A4: Вытяжная труба пылеуловителя | B4: 0003 | C4: 0003 | H4: 2800 | J4: Лето (Круглый год) | K4: 44927 | L4: 46752 | M4: Текущая инвентаризация
A5: Вытяжная труба пылеуловителя | B5: 0004 | C5: 0004 | H5: 2300 | J5: Лето (Круглый год) | K5: 44927 | L5: 46752 | M5: Текущая инвентаризация
A6: Вытяжная труба пылеуловителя | B6: 0005 | C6: 0005 | H6: 2300 | J6: Лето (Круглый год) | K6: 44927 | L6: 46752 | M6: Текущая инвентаризация
A7: Вытяжная труба пылеуловителя | B7: 0008 | C7: 0008 | H7: 5400 | J7: Лето (Круглый год) | K7: 44927 | L7: 46752 | M7: Текущая инвентаризация
A8: Вытяжная труба пылеуловителя | B8: 0009 | C8: 0009 | H8: 6000 | J8: Лето (Круглый год) | K8: 44927 | L8: 46752 | M8: Текущая инвентаризация
A9: Дымовая труба | B9: 0011 | C9: 0011 | H9: 6480 | J9: Лето (Круглый год) | K9: 44927 | L9: 46752 | M9: Текущая инвентаризация
A10: Вытяжная труба пылеуловителя | B10: 0012 | C10: 0012 | H10: 5500 | J10: Лето (Круглый год) | K10: 44927 | L10: 46752 | M10: Текущая инвентаризация
A11: Вытяжная труба пылеуловителя | B11: 0013 | C11: 0013 | H11: 5500 | J11: Лето (Круглый год) | K11: 44927 | L11: 46752 | M11: Текущая инвентаризация
A12: Вытяжная труба пылеуловителя | B12: 0014 | C12: 0014 | H12: 5400 | J12: Лето (Круглый год) | K12: 44927 | L12: 46752 | M12: Текущая инвентаризация
A13: Вытяжная труба пылеуловителя | B13: 0015 | C13: 0015 | H13: 5400 | J13: Лето (Круглый год) | K13: 44927 | L13: 46752 | M13: Текущая инвентаризация
... A46: Дистиллятор | B46: 0051 | C46: 0051 | H46: 730 | J46: Лето (Круглый год) | K46: 44927 | L46: 46752 | M46: Текущая инвентаризация
A47: Отпуск кислот; вытяжной шкаф | B47: 0052 | C47: 0052 | H47: =150+70 -> 220 | J47: Лето (Круглый год) | K47: 44927 | L47: 46752 | M47: Текущая инвентаризация
A48: Узел пересыпки клинкера | B48: 0053 | C48: 0053 | H48: 5300 | J48: Лето (Круглый год) | K48: 44927 | L48: 46752 | M48: Текущая инвентаризация
A49: Узел перегрузки цемента | B49: 0054 | C49: 0054 | H49: 4800 | J49: Лето (Круглый год) | K49: 44927 | L49: 46752 | M49: Текущая инвентаризация
A50: Дымовая труба | B50: 0055 | C50: 0055 | H50: 6260 | J50: Лето (Круглый год) | K50: 44927 | L50: 46752 | M50: Текущая инвентаризация
A51: Узел пересыпки цемента | B51: 0056 | C51: 0056 | H51: 5000 | J51: Лето (Круглый год) | K51: 44927 | L51: 46752 | M51: Текущая инвентаризация
A52: Узел пересыпки цемента | B52: 0057 | C52: 0057 | H52: 5000 | J52: Лето (Круглый год) | K52: 44927 | L52: 46752 | M52: Текущая инвентаризация
A53: Узел пересыпки цемента | B53: 0058 | C53: 0058 | H53: 5000 | J53: Лето (Круглый год) | K53: 44927 | L53: 46752 | M53: Текущая инвентаризация
A54: Узел пересыпки цемента | B54: 0059 | C54: 0059 | H54: 5000 | J54: Лето (Круглый год) | K54: 44927 | L54: 46752 | M54: Текущая инвентаризация
A55: Открытый склад известняка | B55: 6001 | C55: 6001 | H55: 8760 | J55: Лето (Круглый год) | K55: 44927 | L55: 46752 | M55: Текущая инвентаризация
A56: Загрузка известняка в приемный бункер дробилки | B56: 6002 | C56: 6002 | H56: 2111.1111 | J56: Лето (Круглый год) | K56: 44927 | L56: 46752 | M56: Текущая инвентаризация
A57: Усреднительный склад известняка | B57: 6003 | C57: 6003 | H57: 8760 | J57: Лето (Круглый год) | K57: 44927 | L57: 46752 | M57: Текущая инвентаризация
A58: Открытый склад глины | B58: 6006 | C58: 6006 | H58: 8760 | J58: Лето (Круглый год) | K58: 44927 | L58: 46752 | M58: Текущая инвентаризация
A59: Приемный бункер глины | B59: 6007 | C59: 6007 | H59: 3333 | J59: Лето (Круглый год) | K59: 44927 | L59: 46752 | M59: Текущая инвентаризация
... A131: Накопительная площадка клинкера | B131: 6113 | C131: 6113 | H131: 8760 | J131: Лето (Круглый год) | K131: 44927 | L131: 46752 | M131: Текущая инвентаризация

Sheet Очистные сооружения
A1: Номер ГПОУ | B1: Наименование ГПОУ | C1: Номер источника загрязнения* | D1: Номер источника выделения* | E1: Время работы, час/сут | F1: Инвентаризация/Перспектива
A2: 1 | B2: рукавный фильтр | C2: 0001 | D2: 0001 | F2: Текущая инвентаризация
A3: 2 | B3: рукавный фильтр | C3: 0002 | D3: 0002 | F3: Текущая инвентаризация
A4: 3 | B4: рукавный фильтр | C4: 0003 | D4: 0003 | F4: Текущая инвентаризация
A5: 4 | B5: рукавный фильтр | C5: 0004 | D5: 0004 | F5: Текущая инвентаризация
A6: 5 | B6: рукавный фильтр | C6: 0005 | D6: 0005 | F6: Текущая инвентаризация
A7: 6 | B7: рукавный фильтр | C7: 0008 | D7: 0008 | F7: Текущая инвентаризация
A8: 7 | B8: рукавный фильтр | C8: 0009 | D8: 0009 | F8: Текущая инвентаризация
A9: 8 | B9: электро-фильтр | C9: 0011 | D9: 0011 | F9: Текущая инвентаризация
A10: 9 | B10: рукавный фильтр | C10: 0012 | D10: 0012 | F10: Текущая инвентаризация
A11: 10 | B11: рукавный фильтр | C11: 0013 | D11: 0013 | F11: Текущая инвентаризация
A12: 11 | B12: рукавный фильтр | C12: 0014 | D12: 0014 | F12: Текущая инвентаризация
A13: 12 | B13: рукавный фильтр | C13: 0015 | D13: 0015 | F13: Текущая инвентаризация
... A45: 44 | B45: электро-фильтр | C45: 0055 | D45: 0055 | F45: Текущая инвентаризация

Sheet Данные ЗВ
A1: Номер источника загрязнения* | B1: Номер источника выделения* | C1: Код загрязняющего вещества | D1: Наименование загрязняющего вещества | E1: Г/С загрязняющего вещества | F1: Т/Г загрязняющего вещества | G1: МГ/М3 загрязняющего вещества | H1: Номер ГПОУ* | I1: КПД проектный | J1: КПД фактический | K1: Инвентаризация/Перспектива
A2: 0001 | B2: 0001 | C2: 2908 | D2: Пыль неорганическая, содержащая двуокись кремния в %: 70-20 (шамот, цемент, пыль цементного производства - глина, глинистый сланец, доменный шлак, песок, клинкер, зола, кремнезем, зола углей казахстанских месторождений) (494) | E2: 0.02353 | F2: 0.23718 | G2: 1.43 | H2: 1 | K2: Текущая инвентаризация
A3: 0002 | B3: 0002 | C3: 2908 | D3: Пыль неорганическая, содержащая двуокись кремния в %: 70-20 (шамот, цемент, пыль цементного производства - глина, глинистый сланец, доменный шлак, песок, клинкер, зола, кремнезем, зола углей казахстанских месторождений) (494) | E3: 0.00207 | F3: 0.02087 | G3: 0.33 | H3: 2 | K3: Текущая инвентаризация
A4: 0003 | B4: 0003 | C4: 2908 | D4: Пыль неорганическая, содержащая двуокись кремния в %: 70-20 (шамот, цемент, пыль цементного производства - глина, глинистый сланец, доменный шлак, песок, клинкер, зола, кремнезем, зола углей казахстанских месторождений) (494) | E4: 0.00207 | F4: 0.02087 | G4: 0.33 | H4: 3 | K4: Текущая инвентаризация
A5: 0004 | B5: 0004 | C5: 2908 | D5: Пыль неорганическая, содержащая двуокись кремния в %: 70-20 (шамот, цемент, пыль цементного производства - глина, глинистый сланец, доменный шлак, песок, клинкер, зола, кремнезем, зола углей казахстанских месторождений) (494) | E5: 0.00035 | F5: 0.0029 | G5: 0.06 | H5: 4 | K5: Текущая инвентаризация
A6: 0005 | B6: 0005 | C6: 2908 | D6: Пыль неорганическая, содержащая двуокись кремния в %: 70-20 (шамот, цемент, пыль цементного производства - глина, глинистый сланец, доменный шлак, песок, клинкер, зола, кремнезем, зола углей казахстанских месторождений) (494) | E6: 0.01389 | F6: 0.11501 | G6: 2.73 | H6: 5 | K6: Текущая инвентаризация
A7: 0008 | B7: 0008 | C7: 2908 | D7: Пыль неорганическая, содержащая двуокись кремния в %: 70-20 (шамот, цемент, пыль цементного производства - глина, глинистый сланец, доменный шлак, песок, клинкер, зола, кремнезем, зола углей казахстанских месторождений) (494) | E7: 0.00028 | F7: 0.00544 | G7: 0.06 | H7: 6 | K7: Текущая инвентаризация
A8: 0009 | B8: 0009 | C8: 2908 | D8: Пыль неорганическая, содержащая двуокись кремния в %: 70-20 (шамот, цемент, пыль цементного производства - глина, глинистый сланец, доменный шлак, песок, клинкер, зола, кремнезем, зола углей казахстанских месторождений) (494) | E8: 0.00034 | F8: 0.00734 | G8: 0.07 | H8: 7 | K8: Текущая инвентаризация
A9: 0011 | B9: 0011 | C9: 301 | D9: Азота (IV) диоксид (Азота диоксид) (4) | E9: 24.88889 | F9: 584.90878 | G9: 506.1 | K9: Текущая инвентаризация
C10: 304 | D10: Азот (II) оксид (Азота оксид) (6) | E10: 4.04444 | F10: 95.04768 | G10: 82.24 | K10: Текущая инвентаризация
C11: 330 | D11: Сера диоксид (Ангидрид сернистый, Сернистый газ, Сера (IV) оксид) (516) | E11: 2.20711 | F11: 51.86885 | G11: 44.88 | K11: Текущая инвентаризация
C12: 337 | D12: Углерод оксид (Окись углерода, Угарный газ) (584) | E12: 38.11111 | F12: 895.64157 | G12: 774.97 | K12: Текущая инвентаризация
C13: 2908 | D13: Пыль неорганическая, содержащая двуокись кремния в %: 70-20 (шамот, цемент, пыль цементного производства - глина, глинистый сланец, доменный шлак, песок, клинкер, зола, кремнезем, зола углей казахстанских месторождений) (494) | E13: 2.99444 | F13: 70.37174 | G13: 60.89 | H13: 8 | K13: Текущая инвентаризация
A14: 0012 | B14: 0012 | C14: 2908 | D14: Пыль неорганическая, содержащая двуокись кремния в %: 70-20 (шамот, цемент, пыль цементного производства - глина, глинистый сланец, доменный шлак, песок, клинкер, зола, кремнезем, зола углей казахстанских месторождений) (494) | E14: 0.00879 | F14: 0.17404 | G14: 1.73 | H14: 9 | K14: Текущая инвентаризация
A15: 0013 | B15: 0013 | C15: 2908 | D15: Пыль неорганическая, содержащая двуокись кремния в %: 70-20 (шамот, цемент, пыль цементного производства - глина, глинистый сланец, доменный шлак, песок, клинкер, зола, кремнезем, зола углей казахстанских месторождений) (494) | E15: 0.001 | F15: 0.0198 | G15: 0.2 | H15: 10 | K15: Текущая инвентаризация
A16: 0014 | B16: 0014 | C16: 2908 | D16: Пыль неорганическая, содержащая двуокись кремния в %: 70-20 (шамот, цемент, пыль цементного производства - глина, глинистый сланец, доменный шлак, песок, клинкер, зола, кремнезем, зола углей казахстанских месторождений) (494) | E16: 0.00042 | F16: 0.00816 | G16: 0.06 | H16: 11 | K16: Текущая инвентаризация
A17: 0015 | B17: 0015 | C17: 2908 | D17: Пыль неорганическая, содержащая двуокись кремния в %: 70-20 (шамот, цемент, пыль цементного производства - глина, глинистый сланец, доменный шлак, песок, клинкер, зола, кремнезем, зола углей казахстанских месторождений) (494) | E17: 0.00042 | F17: 0.00816 | G17: 0.06 | H17: 12 | K17: Текущая инвентаризация
A18: 0016 | B18: 0016 | C18: 2908 | D18: Пыль неорганическая, содержащая двуокись кремния в %: 70-20 (шамот, цемент, пыль цементного производства - глина, глинистый сланец, доменный шлак, песок, клинкер, зола, кремнезем, зола углей казахстанских месторождений) (494) | E18: 0.01989 | F18: 0.16469 | G18: 1.43 | H18: 13 | K18: Текущая инвентаризация
A19: 0017 | B19: 0017 | C19: 2908 | D19: Пыль неорганическая, содержащая двуокись кремния в %: 70-20 (шамот, цемент, пыль цементного производства - глина, глинистый сланец, доменный шлак, песок, клинкер, зола, кремнезем, зола углей казахстанских месторождений) (494) | E19: 0.00056 | F19: 0.01089 | G19: 0.06 | H19: 14 | K19: Текущая инвентаризация
A20: 0018 | B20: 0018 | C20: 2908 | D20: Пыль неорганическая, содержащая двуокись кремния в %: 70-20 (шамот, цемент, пыль цементного производства - глина, глинистый сланец, доменный шлак, песок, клинкер, зола, кремнезем, зола углей казахстанских месторождений) (494) | E20: 0.00056 | F20: 0.00403 | G20: 0.06 | H20: 15 | K20: Текущая инвентаризация
A21: 0019 | B21: 0019 | C21: 2908 | D21: Пыль неорганическая, содержащая двуокись кремния в %: 70-20 (шамот, цемент, пыль цементного производства - глина, глинистый сланец, доменный шлак, песок, клинкер, зола, кремнезем, зола углей казахстанских месторождений) (494) | E21: 0.00133 | F21: 0.00958 | G21: 0.13 | H21: 16 | K21: Текущая инвентаризация
A22: 0020 | B22: 0020 | C22: 2908 | D22: Пыль неорганическая, содержащая двуокись кремния в %: 70-20 (шамот, цемент, пыль цементного производства - глина, глинистый сланец, доменный шлак, песок, клинкер, зола, кремнезем, зола углей казахстанских месторождений) (494) | E22: 0.0111 | F22: 0.27572 | G22: 0.57 | H22: 17 | K22: Текущая инвентаризация
A23: 0021 | B23: 0021 | C23: 2908 | D23: Пыль неорганическая, содержащая двуокись кремния в %: 70-20 (шамот, цемент, пыль цементного производства - глина, глинистый сланец, доменный шлак, песок, клинкер, зола, кремнезем, зола углей казахстанских месторождений) (494) | E23: 0.00056 | F23: 0.01089 | G23: 0.06 | H23: 18 | K23: Текущая инвентаризация
A24: 0022 | B24: 0022 | C24: 2908 | D24: Пыль неорганическая, содержащая двуокись кремния в %: 70-20 (шамот, цемент, пыль цементного производства - глина, глинистый сланец, доменный шлак, песок, клинкер, зола, кремнезем, зола углей казахстанских месторождений) (494) | E24: 0.00056 | F24: 0.00968 | G24: 0.06 | H24: 19 | K24: Текущая инвентаризация
A25: 0024 | B25: 0024 | C25: 2908 | D25: Пыль неорганическая, содержащая двуокись кремния в %: 70-20 (шамот, цемент, пыль цементного производства - глина, глинистый сланец, доменный шлак, песок, клинкер, зола, кремнезем, зола углей казахстанских месторождений) (494) | E25: 0.0153 | F25: 0.0661 | G25: 1.1 | H25: 20 | K25: Текущая инвентаризация
... A46: 0045 | B46: 0045 | C46: 2908 | D46: Пыль неорганическая, содержащая двуокись кремния в %: 70-20 (шамот, цемент, пыль цементного производства - глина, глинистый сланец, доменный шлак, песок, клинкер, зола, кремнезем, зола углей казахстанских месторождений) (494) | E46: 0.04107 | F46: 0.91816 | G46: 4.08 | H46: 41 | K46: Текущая инвентаризация
A47: 0046 | B47: 0046 | C47: 123 | D47: Железо (II, III) оксиды (в пересчете на железо) (диЖелезо триоксид, Железа оксид) (274) | E47: 0.01417 | F47: 0.03088 | G47: 156.23 | K47: Текущая инвентаризация
C48: 143 | D48: Марганец и его соединения (в пересчете на марганца (IV) оксид) (327) | E48: 0.00188 | F48: 0.00536 | G48: 20.73 | K48: Текущая инвентаризация
C49: 301 | D49: Азота (IV) диоксид (Азота диоксид) (4) | E49: 0.00333 | F49: 0.0135 | G49: 36.72 | K49: Текущая инвентаризация
C50: 342 | D50: Фтористые газообразные соединения /в пересчете на фтор/ (617) | E50: 0.00022 | F50: 0.0012 | G50: 2.43 | K50: Текущая инвентаризация
C51: 2902 | D51: Взвешенные частицы (116) | E51: 0.00592 | F51: 0.05428 | G51: 65.27 | K51: Текущая инвентаризация
C52: 2908 | D52: Пыль неорганическая, содержащая двуокись кремния в %: 70-20 (шамот, цемент, пыль цементного производства - глина, глинистый сланец, доменный шлак, песок, клинкер, зола, кремнезем, зола углей казахстанских месторождений) (494) | E52: 0.00023 | F52: 4e-05 | G52: 2.54 | K52: Текущая инвентаризация
C53: 2930 | D53: Пыль абразивная (Корунд белый, Монокорунд) (1027*) | E53: 0.0026 | F53: 0.01376 | G53: 28.67 | K53: Текущая инвентаризация
A54: 0048 | B54: 0048 | C54: 150 | D54: Натрий гидроксид (Натр едкий, Сода каустическая) (876*) | E54: 1.3e-05 | F54: 0.000137 | G54: 0.02 | K54: Текущая инвентаризация
C55: 302 | D55: Азотная кислота (5) | E55: 0.0005 | F55: 0.005256 | G55: 0.89 | K55: Текущая инвентаризация
C56: 303 | D56: Аммиак (32) | E56: 4.9e-05 | F56: 0.000515 | G56: 0.09 | K56: Текущая инвентаризация
C57: 306 | D57: Аммоний тиоцианат (Аммоний роданид) (76*) | E57: 4.9e-05 | F57: 0.000515 | G57: 0.09 | K57: Текущая инвентаризация
C58: 316 | D58: Гидрохлорид (Соляная кислота, Водород хлорид) (163) | E58: 0.000132 | F58: 0.001388 | G58: 0.23 | K58: Текущая инвентаризация
C59: 322 | D59: Серная кислота (517) | E59: 2.7e-05 | F59: 0.000284 | G59: 0.05 | K59: Текущая инвентаризация
C60: 348 | D60: Ортофосфорная кислота (938*) | E60: 0.0005 | F60: 0.005256 | G60: 0.89 | K60: Текущая инвентаризация
...

Sheet Мероприятия по снижению выбросо
A1: Номер ИЗА | B1: Номер ИВ | C1: Код ЗВ | D1: Мероприятие (Наименование на русском) | E1: Мероприятие (Наименование на казахском) | F1: Мероприятие (Период с:) | G1: Мероприятие (Период по:) | H1: Сроки реализации мероприятия с, год | I1: Сроки реализации мероприятия с, квартал | J1: Сроки реализации мероприятия по, год | K1: Сроки реализации мероприятия по, квартал | L1: Капиталовложения тыс.тенге | M1: Основная деятельность тыс.тенге | N1: Процент уменьшения | O1: Инвентаризация/Перспектива

Sheet Мероприятия в периоды НМУ
A1: Номер ИЗА | B1: Номер ИВ | C1: Код ЗВ | D1: Год | E1: Режим НМУ | F1: Метод контроля источника (Наименование на русском) | G1: Метод контроля источника (Наименование на казахском) | H1: Метод контроля источника (Период с:) | I1: Метод контроля источника (Период по:) | J1: Мероприятие (Наименование на русском) | K1: Мероприятие (Наименование на казахском) | L1: Мероприятие (Период с:) | M1: Мероприятие (Период по:) | N1: Процент уменьшения | O1: Инвентаризация/Перспектива

Sheet Мероприятия по применению НДТ
A1: Номер ИЗА | B1: Номер ИВ | C1: Код ЗВ | D1: Мероприятие (Наименование на русском) | E1: Мероприятие (Наименование на казахском) | F1: Мероприятие (Период с:) | G1: Мероприятие (Период по:) | H1: Сроки реализации мероприятия с, год | I1: Сроки реализации мероприятия с, квартал | J1: Сроки реализации мероприятия по, год | K1: Сроки реализации мероприятия по, квартал | L1: Капиталовложения тыс.тенге | M1: Основная деятельность тыс.тенге | N1: Процент уменьшения | O1: Инвентаризация/Перспектива

Sheet season
A1: № | B1: Наименование
A2: 1 | B2: Лето (Круглый год)
A3: 2 | B3: Зима

Sheet lists_for_excel
